Workbook
Name base_mr: [1]Base_MR!$B$3:$BG$104
Name base_ppi: [1]Base_PPI!$B$3:$LD$342
Name DIMENSION: [1]Datos_calculos!$B$796:$B$801
Name ENTIDAD: [1]Datos_calculos!$C$244:$W$244
Name METASP: [1]Base_PPI!$B$4:$B$342
Name PE: [1]PE!$C$3:$AL$1644

Sheet DETALLE POR METAS 
B2: ALCALDIA MUNICIPAL DE CAJICA -
B3: RELACION COMPARATIVA - PRESUPUESTO INIICAL - PRESUPUESTO 2024 - 2025 - 2026 - 2027
I4: AÑO 2024 | M4: AÑO 2025 | Q4: AÑO 2026 CON CORTE A 28 DE SEPTIEMBRE
B5: DIMENSIÓN | C5: SECTOR | D5: PROGRAMA | E5: SUBPROGRAMA | F5: No. Meta | G5: Responsable | H5: DESCRIPCIÓN META | I5: PRESUPUESTO INICIAL | J5: TOTAL APROPIADO | K5: PRESUPUESTO EJECUTADO | L5: % EJECUCIÓN PRESUPUESTAL | M5: PRESUPUESTO INICIAL | N5: TOTAL APROPIADO | O5: PRESUPUESTO EJECUTADO | P5: % EJECUCIÓN PRESUPUESTAL | Q5: PRESUPUESTO INICIAL | R5: TOTAL APROPIADO | S5: PRESUPUESTO EJECUTADO | T5: PAGOS | U5: % EJECUCIÓN PRESUPUESTAL
B6: 1. CAJICÁ IDEAL AMBIENTAL Y SOSTENIBLE | C6: 32. Ambiente y desarrollo sostenible | D6: 1. Cajicá por la sostenibilidad ambiental | E6: 1. Sostenibilidad | F6: 1 | G6: Secretaría Ambiente y Desarrollo Rural | H6: =IFERROR(VLOOKUP($F6,base_ppi,[1]Base_PPI!$T$1,FALSE),"") -> Elaborar y ejecutar 1 Plan anual para la adquisición de predios, protección y mantenimiento de áreas de reserva hídrica. SRB - ORDEN 4.8 - 4,25 | I6: 4899074093 | J6: 4899074093 | K6: 7800000 | L6: 0.0015921376 | M6: 1103886471 | N6: 6.4093224e+09 | O6: 1.3846421e+09 | P6: 0.21603565 | Q6: 6797486041 | R6: 1.9519928e+08 | S6: 1.9519928e+08 | T6: 92093892 | U6: 0.028716392
B7: 1. CAJICÁ IDEAL AMBIENTAL Y SOSTENIBLE | C7: 32. Ambiente y desarrollo sostenible | D7: 1. Cajicá por la sostenibilidad ambiental | E7: 1. Sostenibilidad | F7: 2 | G7: Secretaría Ambiente y Desarrollo Rural | H7: =IFERROR(VLOOKUP($F7,base_ppi,[1]Base_PPI!$T$1,FALSE),"") -> Desarrollar 1 estrategia anual para el seguimiento, monitoreo y verificación al cumplimiento de las órdenes de la Sentencia del Río Bogotá. SRB - ORDEN 4.8 - 4.13 - 4.15 - 4,72 - 4,73 | I7: 19200000 | J7: 19200000 | K7: 19200000 | L7: 1 | M7: 20400000 | N7: 5000000 | O7: 0 | P7: 0 | Q7: 0 | R7: 0 | S7: 0 | T7: 0 | U7: NE
B8: 1. CAJICÁ IDEAL AMBIENTAL Y SOSTENIBLE | C8: 32. Ambiente y desarrollo sostenible | D8: 1. Cajicá por la sostenibilidad ambiental | E8: 1. Sostenibilidad | F8: 3 | G8: Secretaría Ambiente y Desarrollo Rural | H8: =IFERROR(VLOOKUP($F8,base_ppi,[2]Base_PPI!$T$1,FALSE),"") -> Realizar 1 acción anual de articulación con el POMCA - Plan de Ordenación y Manejo de Cuenca del Río Bogotá - SRB ORDEN 4,8 - 4.10 -4.17 | I8: 0 | J8: 0 | K8: 0 | L8: NE | M8: 12792000 | N8: 12792000 | O8: 12792000 | P8: 1 | Q8: 19400000 | R8: 19400000 | S8: 19400000 | T8: 7427776 | U8: 1
B9: 1. CAJICÁ IDEAL AMBIENTAL Y SOSTENIBLE | C9: 32. Ambiente y desarrollo sostenible | D9: 1. Cajicá por la sostenibilidad ambiental | E9: 1. Sostenibilidad | F9: 4 | G9: Secretaría Ambiente y Desarrollo Rural | H9: Elaborar e Implementar 1 Plan de Manejo Ambiental para la Recuperación y Conservación del Río Frío y sus afluentes - SRB ORDEN 4,19- 4.10 - 4.19 | I9: 0 | J9: 0 | K9: 0 | L9: NE | M9: 12792000 | N9: 12792000 | O9: 12792000 | P9: 1 | Q9: 11500000 | R9: 5500000 | S9: 5500000 | T9: 4661111 | U9: 0.47826087
B10: 1. CAJICÁ IDEAL AMBIENTAL Y SOSTENIBLE | C10: 32. Ambiente y desarrollo sostenible | D10: 1. Cajicá por la sostenibilidad ambiental | E10: 1. Sostenibilidad | F10: 5 | G10: Secretaría Ambiente y Desarrollo Rural | H10: =IFERROR(VLOOKUP($F10,base_ppi,[1]Base_PPI!$T$1,FALSE),"") -> Desarrollar 1 campaña anual de concientización a la sociedad civil para proteger las áreas de conservación ambiental. Srb Orden 4.19 | I10: 0 | J10: 0 | K10: 0 | L10: NE | M10: 12792000 | N10: 9416000 | O10: 9416000 | P10: 1 | Q10: 13500000 | R10: 11500000 | S10: 11500000 | T10: 9794446 | U10: 0.85185185
B11: 1. CAJICÁ IDEAL AMBIENTAL Y SOSTENIBLE | C11: 32. Ambiente y desarrollo sostenible | D11: 1. Cajicá por la sostenibilidad ambiental | E11: 1. Sostenibilidad | F11: 6 | G11: Secretaría Ambiente y Desarrollo Rural | H11: =IFERROR(VLOOKUP($F11,base_ppi,[1]Base_PPI!$T$1,FALSE),"") -> Realizar 1 gestión jurídica con la autoridad ambiental y entes de control ambiental para posibilitar la sustracción de área de reserva para poder legalizar nativos de la zona de La Cumbre ubicados por más de 20 años | I11: 10250000 | J11: 10250000 | K11: 10250000 | L11: 1 | M11: 12792000 | N11: 12792000 | O11: 12792000 | P11: 1 | Q11: 28600000 | R11: 28600000 | S11: 28600000 | T11: 13000000 | U11: 1
B12: 1. CAJICÁ IDEAL AMBIENTAL Y SOSTENIBLE | C12: 32. Ambiente y desarrollo sostenible | D12: 1. Cajicá por la sostenibilidad ambiental | E12: 1. Sostenibilidad | F12: 7 | G12: Secretaría Ambiente y Desarrollo Rural | H12: =IFERROR(VLOOKUP($F12,base_ppi,[1]Base_PPI!$T$1,FALSE),"") -> Realizar 1 campaña anual para la divulgación, promoción, prevención de la Infracción Ambiental como medida preventiva | I12: 11214031 | J12: 7788471 | K12: 7318471 | L12: 0.93965439 | M12: 12792000 | N12: 12792000 | O12: 12792000 | P12: 1 | Q12: 22000000 | R12: 21750000 | S12: 21750000 | T12: 13000000 | U12: 0.98863636
B13: 1. CAJICÁ IDEAL AMBIENTAL Y SOSTENIBLE | C13: 32. Ambiente y desarrollo sostenible | D13: 1. Cajicá por la sostenibilidad ambiental | E13: 1. Sostenibilidad | F13: 8 | G13: Secretaría Ambiente y Desarrollo Rural | H13: =IFERROR(VLOOKUP($F13,base_ppi,[1]Base_PPI!$T$1,FALSE),"") -> Realizar 3 campañas anuales de capacitación para concientizar en la contaminación auditiva, atmosférica y visual | I13: 0 | J13: 0 | K13: 0 | L13: NE | M13: 21320000 | N13: 21320000 | O13: 21320000 | P13: 1 | Q13: 44849527 | R13: 22645895 | S13: 22645895 | T13: 15400000 | U13: 0.50493052
B14: 1. CAJICÁ IDEAL AMBIENTAL Y SOSTENIBLE | C14: 32. Ambiente y desarrollo sostenible | D14: 1. Cajicá por la sostenibilidad ambiental | E14: 1. Sostenibilidad | F14: 9 | G14: Secretaría Ambiente y Desarrollo Rural | H14: =IFERROR(VLOOKUP($F14,base_ppi,[1]Base_PPI!$T$1,FALSE),"") -> Elaborar y desarrollar 1 estrategia anual de apoyo, formación y seguimiento al desempeño ambiental del sector productivo del municipio | I14: 0 | J14: 0 | K14: 0 | L14: NE | M14: 25584000 | N14: 21320000 | O14: 21320000 | P14: 1 | Q14: 17650000 | R14: 17650000 | S14: 17650000 | T14: 13650000 | U14: 1
B15: 1. CAJICÁ IDEAL AMBIENTAL Y SOSTENIBLE | C15: 32. Ambiente y desarrollo sostenible | D15: 1. Cajicá por la sostenibilidad ambiental | E15: 2. Información Ambiental | F15: 10 | G15: Secretaría Ambiente y Desarrollo Rural | H15: =IFERROR(VLOOKUP($F15,base_ppi,[1]Base_PPI!$T$1,FALSE),"") -> Actualizar e implementar al 100% el plan de acción anual del SIGAM - Sistema de Gestión Ambiental Municipal - Agenda Ambiental para el municipio | I15: 11666666 | J15: 11666666 | K15: 11616667 | L15: 0.99571437 | M15: 12792000 | N15: 12792000 | O15: 12792000 | P15: 1 | Q15: 15500000 | R15: 15500000 | S15: 15500000 | T15: 9500000 | U15: 1
B16: 1. CAJICÁ IDEAL AMBIENTAL Y SOSTENIBLE | C16: 32. Ambiente y desarrollo sostenible | D16: 1. Cajicá por la sostenibilidad ambiental | E16: 2. Información Ambiental | F16: 11 | G16: Secretaría Ambiente y Desarrollo Rural | H16: =IFERROR(VLOOKUP($F16,base_ppi,[1]Base_PPI!$T$1,FALSE),"") -> Levantar 1 Inventario del patrimonio natural de flora, fauna y forestal | I16: 0 | J16: 0 | K16: 0 | L16: NE | M16: 0 | N16: 0 | O16: 0 | P16: NE | Q16: 0 | R16: 0 | S16: 0 | T16: 0 | U16: NE
B17: 1. CAJICÁ IDEAL AMBIENTAL Y SOSTENIBLE | C17: 32. Ambiente y desarrollo sostenible | D17: 1. Cajicá por la sostenibilidad ambiental | E17: 3. Recurso Hídrico | F17: 12 | G17: Secretaría Ambiente y Desarrollo Rural | H17: =IFERROR(VLOOKUP($F17,base_ppi,[1]Base_PPI!$T$1,FALSE),"") -> Formular e implementar anualmente al 100% el plan de acción de la Política Pública Municipal para la Gestión Integral del Agua. SRB Orden 4.23 | I17: 287864508 | J17: 287864508 | K17: 200000000 | L17: 0.69477131 | M17: 154397759 | N17: 276178286 | O17: 2.6668329e+08 | P17: 0.96562006 | Q17: 351093533 | R17: 276204567 | S17: 285204567 | T17: 1.8659818e+08 | U17: 0.78669796
B18: 1. CAJICÁ IDEAL AMBIENTAL Y SOSTENIBLE | C18: 32. Ambiente y desarrollo sostenible | D18: 1. Cajicá por la sostenibilidad ambiental | E18: 3. Recurso Hídrico | F18: 13 | G18: Secretaría Ambiente y Desarrollo Rural | H18: =IFERROR(VLOOKUP($F18,base_ppi,[1]Base_PPI!$T$1,FALSE),"") -> Implementar al 100% el plan de acción anual del Programa de Uso Eficiente y Ahorro del Agua - PUEAA SRB Orden 4.33 | I18: 0 | J18: 0 | K18: 0 | L18: NE | M18: 321320000 | N18: 542500000 | O18: 538129400 | P18: 0.99194359 | Q18: 500000000 | R18: 500000000 | S18: 500000000 | T18: 500000000 | U18: 1
B19: 1. CAJICÁ IDEAL AMBIENTAL Y SOSTENIBLE | C19: 32. Ambiente y desarrollo sostenible | D19: 1. Cajicá por la sostenibilidad ambiental | E19: 4. Educación Ambiental | F19: 14 | G19: Secretaría Ambiente y Desarrollo Rural | H19: =IFERROR(VLOOKUP($F19,base_ppi,[1]Base_PPI!$T$1,FALSE),"") -> Implementar 1 Plan Municipal anual de Educación Ambiental. SRB Orden 4.71 | I19: 10000000 | J19: 10000000 | K19: 9990000 | L19: 0.999 | M19: 46904000 | N19: 46904000 | O19: 46872175 | P19: 0.99932149 | Q19: 35000000 | R19: 35000000 | S19: 35000000 | T19: 30400000 | U19: 1
B20: 1. CAJICÁ IDEAL AMBIENTAL Y SOSTENIBLE | C20: 32. Ambiente y desarrollo sostenible | D20: 1. Cajicá por la sostenibilidad ambiental | E20: 4. Educación Ambiental | F20: 15 | G20: Secretaría Ambiente y Desarrollo Rural | H20: =IFERROR(VLOOKUP($F20,base_ppi,[1]Base_PPI!$T$1,FALSE),"") -> Implementar 1 Plan Institucional de Gestión Ambiental - PIGA - anualmente para disminuir la Huella de Carbono | I20: 3300330 | J20: 3300330 | K20: 3300330 | L20: 1 | M20: 25584000 | N20: 25584000 | O20: 25252352 | P20: 0.9870369 | Q20: 13000000 | R20: 0 | S20: 0 | T20: 0 | U20: 0
B21: 1. CAJICÁ IDEAL AMBIENTAL Y SOSTENIBLE | C21: 32. Ambiente y desarrollo sostenible | D21: 1. Cajicá por la sostenibilidad ambiental | E21: 4. Educación Ambiental | F21: 16 | G21: Secretaría Ambiente y Desarrollo Rural | H21: =IFERROR(VLOOKUP($F21,base_ppi,[1]Base_PPI!$T$1,FALSE),"") -> Elaborar e Implementar 1 Plan Municipal anual para promocionar y fomentar la Economía Circular | I21: 0 | J21: 0 | K21: 0 | L21: NE | M21: 22800000 | N21: 19649494 | O21: 19649494 | P21: 1 | Q21: 25100000 | R21: 21566667 | S21: 21566667 | T21: 14500000 | U21: 0.85922976
B22: 1. CAJICÁ IDEAL AMBIENTAL Y SOSTENIBLE | C22: 32. Ambiente y desarrollo sostenible | D22: 1. Cajicá por la sostenibilidad ambiental | E22: 4. Educación Ambiental | F22: 17 | G22: Secretaría Ambiente y Desarrollo Rural | H22: =IFERROR(VLOOKUP($F22,base_ppi,[1]Base_PPI!$T$1,FALSE),"") -> Elaborar e Implementar 1 Plan Municipal anual para el desarrollo y la competitividad de la actividad del reciclaje en Cajicá | I22: 129754990 | J22: 129754990 | K22: 0 | L22: 0 | M22: 215801027 | N22: 6.0833937e+08 | O22: 595813900 | P22: 0.97941038 | Q22: 228758359 | R22: 0 | S22: 0 | T22: 0 | U22: 0
B23: 1. CAJICÁ IDEAL AMBIENTAL Y SOSTENIBLE | C23: 32. Ambiente y desarrollo sostenible | D23: 1. Cajicá por la sostenibilidad ambiental | E23: 4. Educación Ambiental | F23: 18 | G23: Secretaría Ambiente y Desarrollo Rural | H23: =IFERROR(VLOOKUP($F23,base_ppi,[1]Base_PPI!$T$1,FALSE),"") -> Realizar 5 campañas anuales acuerdo 11 de 2020 Fortaleza ambiental | I23: 0 | J23: 0 | K23: 0 | L23: NE | M23: 0 | N23: 0 | O23: 0 | P23: NE | Q23: 0 | R23: 0 | S23: 0 | T23: 0 | U23: NE
B24: 1. CAJICÁ IDEAL AMBIENTAL Y SOSTENIBLE | C24: 32. Ambiente y desarrollo sostenible | D24: 1. Cajicá por la sostenibilidad ambiental | E24: 5. Cajicá Verde | F24: 19 | G24: Secretaría Ambiente y Desarrollo Rural | H24: =IFERROR(VLOOKUP($F24,base_ppi,[1]Base_PPI!$T$1,FALSE),"") -> Implementar 1 Campaña anual de identificación, promoción y apoyo de Negocios Verdes - Biocomercio | I24: 0 | J24: 0 | K24: 0 | L24: NE | M24: 0 | N24: 0 | O24: 0 | P24: NE | Q24: 0 | R24: 0 | S24: 0 | T24: 0 | U24: NE
B25: 1. CAJICÁ IDEAL AMBIENTAL Y SOSTENIBLE | C25: 32. Ambiente y desarrollo sostenible | D25: 1. Cajicá por la sostenibilidad ambiental | E25: 6. Cambio Climático | F25: 20 | G25: Secretaría Ambiente y Desarrollo Rural | H25: =IFERROR(VLOOKUP($F25,base_ppi,[1]Base_PPI!$T$1,FALSE),"") -> Formular e implementar anualmente al 100% el Plan Integral de Gestión de Cambio Climático | I25: 0 | J25: 0 | K25: 0 | L25: NE | M25: 21320000 | N25: 11320000 | O25: 11320000 | P25: 1 | Q25: 25600000 | R25: 25600000 | S25: 25600000 | T25: 9312383 | U25: 1
B26: 1. CAJICÁ IDEAL AMBIENTAL Y SOSTENIBLE | C26: 32. Ambiente y desarrollo sostenible | D26: 1. Cajicá por la sostenibilidad ambiental | E26: 6. Cambio Climático | F26: 21 | G26: Secretaría Ambiente y Desarrollo Rural | H26: =IFERROR(VLOOKUP($F26,base_ppi,[1]Base_PPI!$T$1,FALSE),"") -> Elaborar y desarrollar 1 Plan anual de forestación, reforestación y restauración de áreas - suelos. SRB orden 4.24 | I26: 84500000 | J26: 84500000 | K26: 0 | L26: 0 | M26: 46904000 | N26: 96904000 | O26: 96904000 | P26: 1 | Q26: 108946228 | R26: 42380000 | S26: 42380000 | T26: 32405862 | U26: 0.38899924
B27: 1. CAJICÁ IDEAL AMBIENTAL Y SOSTENIBLE | C27: 32. Ambiente y desarrollo sostenible | D27: 1. Cajicá por la sostenibilidad ambiental | E27: 6. Cambio Climático | F27: 22 | G27: Secretaría Ambiente y Desarrollo Rural | H27: =IFERROR(VLOOKUP($F27,base_ppi,[1]Base_PPI!$T$1,FALSE),"") -> Realizar 1 campaña anual de promoción, fomento y del Uso de Energías Sostenibles y Renovables | I27: 0 | J27: 0 | K27: 0 | L27: NE | M27: 0 | N27: 0 | O27: 0 | P27: NE | Q27: 0 | R27: 0 | S27: 0 | T27: 0 | U27: NE
B28: 1. CAJICÁ IDEAL AMBIENTAL Y SOSTENIBLE | C28: 32. Ambiente y desarrollo sostenible | D28: 1. Cajicá por la sostenibilidad ambiental | E28: 7. Turismo sostenible | F28: 23 | G28: Secretaría Ambiente y Desarrollo Rural | H28: =IFERROR(VLOOKUP($F28,base_ppi,[1]Base_PPI!$T$1,FALSE),"") -> Realizar la 1 fase de adecuación de 1 Sendero Ecológico - Sector Quebrada del Campo hasta sector La Cumbre | I28: 412295357 | J28: 412295357 | K28: 412295357 | L28: 1 | M28: 0 | N28: 0 | O28: 0 | P28: NE | Q28: 288606750 | R28: 0 | S28: 0 | T28: 0 | U28: 0
B29: 1. CAJICÁ IDEAL AMBIENTAL Y SOSTENIBLE | C29: 40. Vivienda, Ciudad y Territorio | D29: 2. Cajicá habitable y sostenible | E29: 8. Acueducto | F29: 24 | G29: Secretaría Ambiente y Desarrollo Rural | H29: =IFERROR(VLOOKUP($F29,base_ppi,[1]Base_PPI!$T$1,FALSE),"") -> Realizar 1 transferencia anual al Plan Departamental de Aguas- PDA | I29: 2005312078 | J29: 2005312078 | K29: 1000437889 | L29: 0.49889386 | M29: 1961702221 | N29: 2.4373962e+09 | O29: 2.4373952e+09 | P29: 0.99999959 | Q29: 1610754303 | R29: 1610754303 | S29: 1610754303 | T29: 757530447 | U29: 1
B30: 1. CAJICÁ IDEAL AMBIENTAL Y SOSTENIBLE | C30: 40. Vivienda, Ciudad y Territorio | D30: 2. Cajicá habitable y sostenible | E30: 8. Acueducto | F30: 25 | G30: Secretaría Ambiente y Desarrollo Rural | H30: =IFERROR(VLOOKUP($F30,base_ppi,[1]Base_PPI!$T$1,FALSE),"") -> Realizar 1 transferencia anual para el pago del subsidio de acueducto | I30: 59000000 | J30: 59000000 | K30: 0 | L30: 0 | M30: 94053390 | N30: 3827451630 | O30: 0 | P30: 0 | Q30: 5763391419 | R30: 371501163 | S30: 371501163 | T30: 371501163 | U30: 0.064458777
B31: 1. CAJICÁ IDEAL AMBIENTAL Y SOSTENIBLE | C31: 40. Vivienda, Ciudad y Territorio | D31: 2. Cajicá habitable y sostenible | E31: 8. Acueducto | F31: 26 | G31: Secretaría de Planeación | H31: =IFERROR(VLOOKUP($F31,base_ppi,[1]Base_PPI!$T$1,FALSE),"") -> Asignar el 100% de los recursos necesarios para garantizar los servicios prestados por la EPC para cubrir el mínimo vital de los estratos que resulten del análisis de la información | I31: 4133235478 | J31: 4133235478 | K31: 0 | L31: 0 | M31: 966667048 | N31: 0 | O31: 0 | P31: NE | Q31: 60000000 | R31: 0 | S31: 0 | T31: 0 | U31: 0
B32: 1. CAJICÁ IDEAL AMBIENTAL Y SOSTENIBLE | C32: 40. Vivienda, Ciudad y Territorio | D32: 2. Cajicá habitable y sostenible | E32: 8. Acueducto | F32: 27 | G32: EPC | H32: =IFERROR(VLOOKUP($F32,base_ppi,[1]Base_PPI!$T$1,FALSE),"") -> Implementar al 100% el Plan de acción anual del Plan Maestro de Acueducto | I32: 4200000000 | J32: 4200000000 | K32: 4192061980 | L32: 0.99811 | M32: 870000000 | N32: 1.2711463e+09 | O32: 1.2711463e+09 | P32: 1 | Q32: 9326140570 | R32: 5253476677 | S32: 5253476677 | T32: 5253476677 | U32: 0.56330662
B33: 1. CAJICÁ IDEAL AMBIENTAL Y SOSTENIBLE | C33: 40. Vivienda, Ciudad y Territorio | D33: 2. Cajicá habitable y sostenible | E33: 8. Acueducto | F33: 28 | G33: EPC | H33: =IFERROR(VLOOKUP($F33,base_ppi,[1]Base_PPI!$T$1,FALSE),"") -> Realizar 1 gestión con otros niveles de gobierno para desarrollar alternativas de abastecimiento municipal como concesión de aguas. SRB orden 4.34 | I33: 0 | J33: 0 | K33: 0 | L33: NE | M33: 0 | N33: 0 | O33: 0 | P33: NE | Q33: 0 | R33: 0 | S33: 0 | T33: 0 | U33: NE
B34: 1. CAJICÁ IDEAL AMBIENTAL Y SOSTENIBLE | C34: 40. Vivienda, Ciudad y Territorio | D34: 2. Cajicá habitable y sostenible | E34: 8. Acueducto | F34: 29 | G34: EPC | H34: =IFERROR(VLOOKUP($F34,base_ppi,[1]Base_PPI!$T$1,FALSE),"") -> Terminar la construcción de 1 tanque de compensación de 10.000 metros cúbicos de agua potable - | I34: 896225259 | J34: 1.2962251e+09 | K34: 1287186007 | L34: 0.99302663 | M34: 0 | N34: 400000000 | O34: 400000000 | P34: 1 | Q34: 0 | R34: 0 | S34: 0 | T34: 0 | U34: NE
B35: 1. CAJICÁ IDEAL AMBIENTAL Y SOSTENIBLE | C35: 40. Vivienda, Ciudad y Territorio | D35: 2. Cajicá habitable y sostenible | E35: 8. Acueducto | F35: 30 | G35: EPC | H35: =IFERROR(VLOOKUP($F35,base_ppi,[1]Base_PPI!$T$1,FALSE),"") -> Gestionar la construcción de 1 tanque de compensación de 10.000 metros cúbicos de agua potable | I35: 0 | J35: 0 | K35: 0 | L35: NE | M35: 0 | N35: 0 | O35: 0 | P35: NE | Q35: 0 | R35: 0 | S35: 0 | T35: 0 | U35: NE
B36: 1. CAJICÁ IDEAL AMBIENTAL Y SOSTENIBLE | C36: 40. Vivienda, Ciudad y Territorio | D36: 2. Cajicá habitable y sostenible | E36: 8. Acueducto | F36: 31 | G36: EPC | H36: =IFERROR(VLOOKUP($F36,base_ppi,[1]Base_PPI!$T$1,FALSE),"") -> Gestionar la construcción de 1 estación de bombeo con la construcción de 2 tanques de 2.500 metros cúbicos cada uno | I36: 1796000000 | J36: 1796000000 | K36: 1794004073 | L36: 0.99888868 | M36: 856347827 | N36: 1.0593949e+09 | O36: 1.0593949e+09 | P36: 1 | Q36: 0 | R36: 0 | S36: 0 | T36: 0 | U36: NE
B37: 1. CAJICÁ IDEAL AMBIENTAL Y SOSTENIBLE | C37: 40. Vivienda, Ciudad y Territorio | D37: 2. Cajicá habitable y sostenible | E37: 8. Acueducto | F37: 32 | G37: EPC | H37: =IFERROR(VLOOKUP($F37,base_ppi,[1]Base_PPI!$T$1,FALSE),"") -> Optimizar y mantener en funcionamiento 1 Sistema de Acueducto Municipal. SRB 4,53 | I37: 660000000 | J37: 660000000 | K37: 659843100 | L37: 0.99976227 | M37: 0 | N37: 0 | O37: 0 | P37: NE | Q37: 0 | R37: 0 | S37: 0 | T37: 0 | U37: NE
B38: 1. CAJICÁ IDEAL AMBIENTAL Y SOSTENIBLE | C38: 40. Vivienda, Ciudad y Territorio | D38: 2. Cajicá habitable y sostenible | E38: 8. Acueducto | F38: 33 | G38: Secretaría de Planeación | H38: =IFERROR(VLOOKUP($F38,base_ppi,[1]Base_PPI!$T$1,FALSE),"") -> Realizar 1 reporte anual en el SUI - Sistema Único de Información de la Superintendencia de Servicios Públicos | I38: 3900000 | J38: 3900000 | K38: 3900000 | L38: 1 | M38: 44187000 | N38: 41642900 | O38: 41642900 | P38: 1 | Q38: 43443855 | R38: 43443750 | S38: 43443750 | T38: 28962500 | U38: 0.99999758
B39: 1. CAJICÁ IDEAL AMBIENTAL Y SOSTENIBLE | C39: 40. Vivienda, Ciudad y Territorio | D39: 2. Cajicá habitable y sostenible | E39: 8. Acueducto | F39: 34 | G39: EPC | H39: =IFERROR(VLOOKUP($F39,base_ppi,[1]Base_PPI!$T$1,FALSE),"") -> Mantener actualizado 1 Catastro de redes del servicio de acueducto y alcantarillado | I39: 0 | J39: 0 | K39: 0 | L39: NE | M39: 0 | N39: 0 | O39: 0 | P39: NE | Q39: 0 | R39: 0 | S39: 0 | T39: 0 | U39: NE
B40: 1. CAJICÁ IDEAL AMBIENTAL Y SOSTENIBLE | C40: 40. Vivienda, Ciudad y Territorio | D40: 2. Cajicá habitable y sostenible | E40: 9. Alcantarillado | F40: 35 | G40: Secretaría Ambiente y Desarrollo Rural | H40: =IFERROR(VLOOKUP($F40,base_ppi,[1]Base_PPI!$T$1,FALSE),"") -> Realizar 1 transferencia anual para el pago del subsidio de alcantarillado | I40: 67000000 | J40: 67000000 | K40: 0 | L40: 0 | M40: 106806392 | N40: 8.2073651e+08 | O40: 91078084 | P40: 0.11097116 | Q40: 1472814195 | R40: 262992603 | S40: 287528560 | T40: 262992603 | U40: 0.17856469
B41: 1. CAJICÁ IDEAL AMBIENTAL Y SOSTENIBLE | C41: 40. Vivienda, Ciudad y Territorio | D41: 2. Cajicá habitable y sostenible | E41: 9. Alcantarillado | F41: 36 | G41: EPC | H41: =IFERROR(VLOOKUP($F41,base_ppi,[1]Base_PPI!$T$1,FALSE),"") -> Optimizar y mantener en funcionamiento 1 Sistema de Alcantarillado Municipal. SRB orden 4.57 - 4.79 | I41: 548600000 | J41: 548600000 | K41: 548600000 | L41: 1 | M41: 0 | N41: 555086828 | O41: 555086828 | P41: 1 | Q41: 0 | R41: 0 | S41: 0 | T41: 0 | U41: NE
...

Sheet DETALLE POR SECRETARIAS 
B2: RELACIÓN COMPARATIVA - PRESUPUESTO INICIAL - PRESUPUESTO 2024 - 2025 - 2026 - 2027 POR DEPENDENCIA RESPONSABLE
B3: DEPENDENCIA RESPONSABLE | C3: AÑO 2024 | G3: AÑO 2025 | K3: AÑO 2026 CON CORTE A 28 DE SEPTIEMBRE | P3: AÑO 2027
C4: PRESUPUESTO INICIAL | D4: TOTAL APROPIADO | E4: PRESUPUESTO EJECUTADO | F4: % EJECUCIÓN PRESUPUESTAL | G4: PRESUPUESTO INICIAL | H4: TOTAL APROPIADO | I4: PRESUPUESTO EJECUTADO | J4: % EJECUCIÓN PRESUPUESTAL | K4: PRESUPUESTO INICIAL | L4: TOTAL APROPIADO | M4: PRESUPUESTO EJECUTADO | N4: PAGOS | O4: % EJECUCIÓN PRESUPUESTAL | P4: PRESUPUESTO ASIGNADO 2026
B5: EPC | C5: =+SUMIFS('DETALLE POR METAS '!I$6:I$344,'DETALLE POR METAS '!G$6:G$344,'DETALLE POR SECRETARIAS '!B5) -> 9279784404 | D5: =+SUMIFS('DETALLE POR METAS '!J$6:J$344,'DETALLE POR METAS '!G$6:G$344,B5) -> 1.0679784e+10 | E5: =+SUMIFS('DETALLE POR METAS '!K$6:K$344,'DETALLE POR METAS '!G$6:G$344,B5) -> 9660654305 | F5: =+E5/D5 -> 0.90457392 | G5: =+SUMIFS('DETALLE POR METAS '!M$6:M$344,'DETALLE POR METAS '!G$6:G$344,B5) -> 2221260999 | H5: =+SUMIFS('DETALLE POR METAS '!N$6:N$344,'DETALLE POR METAS '!G$6:G$344,B5) -> 3.7805413e+09 | I5: =+SUMIFS('DETALLE POR METAS '!O$6:O$344,'DETALLE POR METAS '!G$6:G$344,B5) -> 3.7805413e+09 | J5: =+I5/H5 -> 1 | K5: =+SUMIFS('DETALLE POR METAS '!Q$6:Q$344,'DETALLE POR METAS '!G$6:G$344,B5) -> 10295672427 | L5: =+SUMIFS('DETALLE POR METAS '!R$6:R$344,'DETALLE POR METAS '!G$6:G$344,B5) -> 5793476677 | M5: =+SUMIFS('DETALLE POR METAS '!S$6:S$344,'DETALLE POR METAS '!G$6:G$344,B5) -> 5793476677 | O5: =+M5/L5 -> 1 | P5: =+SUMIFS('DETALLE POR METAS '!#REF!,'DETALLE POR METAS '!G$6:G$344,B5) -> #REF!
B6: Instituto de Cultura | C6: =+SUMIFS('DETALLE POR METAS '!I$6:I$344,'DETALLE POR METAS '!G$6:G$344,'DETALLE POR SECRETARIAS '!B6) -> 3.5267288e+09 | D6: =+SUMIFS('DETALLE POR METAS '!J$6:J$344,'DETALLE POR METAS '!G$6:G$344,B6) -> 3.5267288e+09 | E6: =+SUMIFS('DETALLE POR METAS '!K$6:K$344,'DETALLE POR METAS '!G$6:G$344,B6) -> 3.5267288e+09 | F6: =+E6/D6 -> 1 | G6: =+SUMIFS('DETALLE POR METAS '!M$6:M$344,'DETALLE POR METAS '!G$6:G$344,B6) -> 5032840833 | H6: =+SUMIFS('DETALLE POR METAS '!N$6:N$344,'DETALLE POR METAS '!G$6:G$344,B6) -> 1.1219622e+10 | I6: =+SUMIFS('DETALLE POR METAS '!O$6:O$344,'DETALLE POR METAS '!G$6:G$344,B6) -> 1.1118674e+10 | J6: =+I6/H6 -> 0.99100259 | K6: =+SUMIFS('DETALLE POR METAS '!Q$6:Q$344,'DETALLE POR METAS '!G$6:G$344,B6) -> 10426563423 | L6: =+SUMIFS('DETALLE POR METAS '!R$6:R$344,'DETALLE POR METAS '!G$6:G$344,B6) -> 10425066341 | M6: =+SUMIFS('DETALLE POR METAS '!S$6:S$344,'DETALLE POR METAS '!G$6:G$344,B6) -> 10425066341 | O6: =+M6/L6 -> 1 | P6: =+SUMIFS('DETALLE POR METAS '!#REF!,'DETALLE POR METAS '!G$6:G$344,B6) -> #REF!
B7: Instituto de Deportes | C7: =+SUMIFS('DETALLE POR METAS '!I$6:I$344,'DETALLE POR METAS '!G$6:G$344,'DETALLE POR SECRETARIAS '!B7) -> 1535170780 | D7: =+SUMIFS('DETALLE POR METAS '!J$6:J$344,'DETALLE POR METAS '!G$6:G$344,B7) -> 1580070780 | E7: =+SUMIFS('DETALLE POR METAS '!K$6:K$344,'DETALLE POR METAS '!G$6:G$344,B7) -> 1580070780 | F7: =+E7/D7 -> 1 | G7: =+SUMIFS('DETALLE POR METAS '!M$6:M$344,'DETALLE POR METAS '!G$6:G$344,B7) -> 4720478045 | H7: =+SUMIFS('DETALLE POR METAS '!N$6:N$344,'DETALLE POR METAS '!G$6:G$344,B7) -> 6406227446 | I7: =+SUMIFS('DETALLE POR METAS '!O$6:O$344,'DETALLE POR METAS '!G$6:G$344,B7) -> 6406227425 | J7: =+I7/H7 -> 1 | K7: =+SUMIFS('DETALLE POR METAS '!Q$6:Q$344,'DETALLE POR METAS '!G$6:G$344,B7) -> 6804380086 | L7: =+SUMIFS('DETALLE POR METAS '!R$6:R$344,'DETALLE POR METAS '!G$6:G$344,B7) -> 5678933620 | M7: =+SUMIFS('DETALLE POR METAS '!S$6:S$344,'DETALLE POR METAS '!G$6:G$344,B7) -> 5678933620 | O7: =+M7/L7 -> 1 | P7: =+SUMIFS('DETALLE POR METAS '!#REF!,'DETALLE POR METAS '!G$6:G$344,B7) -> #REF!
B8: Instituto de Vivienda | C8: =+SUMIFS('DETALLE POR METAS '!I$6:I$344,'DETALLE POR METAS '!G$6:G$344,'DETALLE POR SECRETARIAS '!B8) -> 2922406594 | D8: =+SUMIFS('DETALLE POR METAS '!J$6:J$344,'DETALLE POR METAS '!G$6:G$344,B8) -> 2922406594 | E8: =+SUMIFS('DETALLE POR METAS '!K$6:K$344,'DETALLE POR METAS '!G$6:G$344,B8) -> 1972861285 | F8: =+E8/D8 -> 0.67508104 | G8: =+SUMIFS('DETALLE POR METAS '!M$6:M$344,'DETALLE POR METAS '!G$6:G$344,B8) -> 1158023540 | H8: =+SUMIFS('DETALLE POR METAS '!N$6:N$344,'DETALLE POR METAS '!G$6:G$344,B8) -> 1.2638905e+10 | I8: =+SUMIFS('DETALLE POR METAS '!O$6:O$344,'DETALLE POR METAS '!G$6:G$344,B8) -> 12638904917 | J8: =+I8/H8 -> 1 | K8: =+SUMIFS('DETALLE POR METAS '!Q$6:Q$344,'DETALLE POR METAS '!G$6:G$344,B8) -> 1801700000 | L8: =+SUMIFS('DETALLE POR METAS '!R$6:R$344,'DETALLE POR METAS '!G$6:G$344,B8) -> 1614512569 | M8: =+SUMIFS('DETALLE POR METAS '!S$6:S$344,'DETALLE POR METAS '!G$6:G$344,B8) -> 1614512569 | O8: =+M8/L8 -> 1 | P8: =+SUMIFS('DETALLE POR METAS '!#REF!,'DETALLE POR METAS '!G$6:G$344,B8) -> #REF!
B9: Oficina Asesora de Control Disciplinario | C9: =+SUMIFS('DETALLE POR METAS '!I$6:I$344,'DETALLE POR METAS '!G$6:G$344,'DETALLE POR SECRETARIAS '!B9) -> 0 | D9: =+SUMIFS('DETALLE POR METAS '!J$6:J$344,'DETALLE POR METAS '!G$6:G$344,B9) -> 0 | E9: =+SUMIFS('DETALLE POR METAS '!K$6:K$344,'DETALLE POR METAS '!G$6:G$344,B9) -> 0 | F9: 0 | G9: =+SUMIFS('DETALLE POR METAS '!M$6:M$344,'DETALLE POR METAS '!G$6:G$344,B9) -> 0 | H9: =+SUMIFS('DETALLE POR METAS '!N$6:N$344,'DETALLE POR METAS '!G$6:G$344,B9) -> 0 | I9: =+SUMIFS('DETALLE POR METAS '!O$6:O$344,'DETALLE POR METAS '!G$6:G$344,B9) -> 0 | J9: 0 | K9: =+SUMIFS('DETALLE POR METAS '!Q$6:Q$344,'DETALLE POR METAS '!G$6:G$344,B9) -> 0 | L9: =+SUMIFS('DETALLE POR METAS '!R$6:R$344,'DETALLE POR METAS '!G$6:G$344,B9) -> 0 | M9: =+SUMIFS('DETALLE POR METAS '!S$6:S$344,'DETALLE POR METAS '!G$6:G$344,B9) -> 0 | O9: 0 | P9: =+SUMIFS('DETALLE POR METAS '!#REF!,'DETALLE POR METAS '!G$6:G$344,B9) -> #REF!
B10: Oficina de Control Interno | C10: =+SUMIFS('DETALLE POR METAS '!I$6:I$344,'DETALLE POR METAS '!G$6:G$344,'DETALLE POR SECRETARIAS '!B10) -> 0 | D10: =+SUMIFS('DETALLE POR METAS '!J$6:J$344,'DETALLE POR METAS '!G$6:G$344,B10) -> 0 | E10: =+SUMIFS('DETALLE POR METAS '!K$6:K$344,'DETALLE POR METAS '!G$6:G$344,B10) -> 0 | F10: 0 | G10: =+SUMIFS('DETALLE POR METAS '!M$6:M$344,'DETALLE POR METAS '!G$6:G$344,B10) -> 0 | H10: =+SUMIFS('DETALLE POR METAS '!N$6:N$344,'DETALLE POR METAS '!G$6:G$344,B10) -> 0 | I10: =+SUMIFS('DETALLE POR METAS '!O$6:O$344,'DETALLE POR METAS '!G$6:G$344,B10) -> 0 | J10: 0 | K10: =+SUMIFS('DETALLE POR METAS '!Q$6:Q$344,'DETALLE POR METAS '!G$6:G$344,B10) -> 0 | L10: =+SUMIFS('DETALLE POR METAS '!R$6:R$344,'DETALLE POR METAS '!G$6:G$344,B10) -> 0 | M10: =+SUMIFS('DETALLE POR METAS '!S$6:S$344,'DETALLE POR METAS '!G$6:G$344,B10) -> 0 | O10: 0 | P10: =+SUMIFS('DETALLE POR METAS '!#REF!,'DETALLE POR METAS '!G$6:G$344,B10) -> #REF!
B11: Oficina de Prensa | C11: =+SUMIFS('DETALLE POR METAS '!I$6:I$344,'DETALLE POR METAS '!G$6:G$344,'DETALLE POR SECRETARIAS '!B11) -> 362318503 | D11: =+SUMIFS('DETALLE POR METAS '!J$6:J$344,'DETALLE POR METAS '!G$6:G$344,B11) -> 362318503 | E11: =+SUMIFS('DETALLE POR METAS '!K$6:K$344,'DETALLE POR METAS '!G$6:G$344,B11) -> 2.8486175e+08 | F11: =+E11/D11 -> 0.78621915 | G11: =+SUMIFS('DETALLE POR METAS '!M$6:M$344,'DETALLE POR METAS '!G$6:G$344,B11) -> 530000000 | H11: =+SUMIFS('DETALLE POR METAS '!N$6:N$344,'DETALLE POR METAS '!G$6:G$344,B11) -> 788000000 | I11: =+SUMIFS('DETALLE POR METAS '!O$6:O$344,'DETALLE POR METAS '!G$6:G$344,B11) -> 7.4215064e+08 | J11: =+I11/H11 -> 0.94181553 | K11: =+SUMIFS('DETALLE POR METAS '!Q$6:Q$344,'DETALLE POR METAS '!G$6:G$344,B11) -> 800000000 | L11: =+SUMIFS('DETALLE POR METAS '!R$6:R$344,'DETALLE POR METAS '!G$6:G$344,B11) -> 782630400 | M11: =+SUMIFS('DETALLE POR METAS '!S$6:S$344,'DETALLE POR METAS '!G$6:G$344,B11) -> 782630400 | O11: =+M11/L11 -> 1 | P11: =+SUMIFS('DETALLE POR METAS '!#REF!,'DETALLE POR METAS '!G$6:G$344,B11) -> #REF!
B12: Secretaría Ambiente y Desarrollo Rural | C12: =+SUMIFS('DETALLE POR METAS '!I$6:I$344,'DETALLE POR METAS '!G$6:G$344,'DETALLE POR SECRETARIAS '!B12) -> 8505685803 | D12: =+SUMIFS('DETALLE POR METAS '!J$6:J$344,'DETALLE POR METAS '!G$6:G$344,B12) -> 8495493390 | E12: =+SUMIFS('DETALLE POR METAS '!K$6:K$344,'DETALLE POR METAS '!G$6:G$344,B12) -> 2097458271 | F12: =+E12/D12 -> 0.2468907 | G12: =+SUMIFS('DETALLE POR METAS '!M$6:M$344,'DETALLE POR METAS '!G$6:G$344,B12) -> 6244588650 | H12: =+SUMIFS('DETALLE POR METAS '!N$6:N$344,'DETALLE POR METAS '!G$6:G$344,B12) -> 1.9831911e+10 | I12: =+SUMIFS('DETALLE POR METAS '!O$6:O$344,'DETALLE POR METAS '!G$6:G$344,B12) -> 7.9014507e+09 | J12: =+I12/H12 -> 0.39842104 | K12: =+SUMIFS('DETALLE POR METAS '!Q$6:Q$344,'DETALLE POR METAS '!G$6:G$344,B12) -> 23121891561 | L12: =+SUMIFS('DETALLE POR METAS '!R$6:R$344,'DETALLE POR METAS '!G$6:G$344,B12) -> 5.7114909e+09 | M12: =+SUMIFS('DETALLE POR METAS '!S$6:S$344,'DETALLE POR METAS '!G$6:G$344,B12) -> 5.7450269e+09 | O12: =+M12/L12 -> 1.0058717 | P12: =+SUMIFS('DETALLE POR METAS '!#REF!,'DETALLE POR METAS '!G$6:G$344,B12) -> #REF!
B13: Secretaría de Desarrollo Económico | C13: =+SUMIFS('DETALLE POR METAS '!I$6:I$344,'DETALLE POR METAS '!G$6:G$344,'DETALLE POR SECRETARIAS '!B13) -> 742693681 | D13: =+SUMIFS('DETALLE POR METAS '!J$6:J$344,'DETALLE POR METAS '!G$6:G$344,B13) -> 841706707 | E13: =+SUMIFS('DETALLE POR METAS '!K$6:K$344,'DETALLE POR METAS '!G$6:G$344,B13) -> 839112484 | F13: =+E13/D13 -> 0.9969179 | G13: =+SUMIFS('DETALLE POR METAS '!M$6:M$344,'DETALLE POR METAS '!G$6:G$344,B13) -> 825099999 | H13: =+SUMIFS('DETALLE POR METAS '!N$6:N$344,'DETALLE POR METAS '!G$6:G$344,B13) -> 2.0997882e+09 | I13: =+SUMIFS('DETALLE POR METAS '!O$6:O$344,'DETALLE POR METAS '!G$6:G$344,B13) -> 2.0806538e+09 | J13: =+I13/H13 -> 0.99088749 | K13: =+SUMIFS('DETALLE POR METAS '!Q$6:Q$344,'DETALLE POR METAS '!G$6:G$344,B13) -> 1808600000 | L13: =+SUMIFS('DETALLE POR METAS '!R$6:R$344,'DETALLE POR METAS '!G$6:G$344,B13) -> 993545996 | M13: =+SUMIFS('DETALLE POR METAS '!S$6:S$344,'DETALLE POR METAS '!G$6:G$344,B13) -> 993545996 | O13: =+M13/L13 -> 1 | P13: =+SUMIFS('DETALLE POR METAS '!#REF!,'DETALLE POR METAS '!G$6:G$344,B13) -> #REF!
B14: Secretaría de Educación | C14: =+SUMIFS('DETALLE POR METAS '!I$6:I$344,'DETALLE POR METAS '!G$6:G$344,'DETALLE POR SECRETARIAS '!B14) -> 3392903546 | D14: =+SUMIFS('DETALLE POR METAS '!J$6:J$344,'DETALLE POR METAS '!G$6:G$344,B14) -> 3.3691705e+09 | E14: =+SUMIFS('DETALLE POR METAS '!K$6:K$344,'DETALLE POR METAS '!G$6:G$344,B14) -> 2.9314048e+09 | F14: =+E14/D14 -> 0.87006722 | G14: =+SUMIFS('DETALLE POR METAS '!M$6:M$344,'DETALLE POR METAS '!G$6:G$344,B14) -> 5061454700 | H14: =+SUMIFS('DETALLE POR METAS '!N$6:N$344,'DETALLE POR METAS '!G$6:G$344,B14) -> 6.3691364e+09 | I14: =+SUMIFS('DETALLE POR METAS '!O$6:O$344,'DETALLE POR METAS '!G$6:G$344,B14) -> 6.327843e+09 | J14: =+I14/H14 -> 0.99351664 | K14: =+SUMIFS('DETALLE POR METAS '!Q$6:Q$344,'DETALLE POR METAS '!G$6:G$344,B14) -> 6689461499 | L14: =+SUMIFS('DETALLE POR METAS '!R$6:R$344,'DETALLE POR METAS '!G$6:G$344,B14) -> 5299357677 | M14: =+SUMIFS('DETALLE POR METAS '!S$6:S$344,'DETALLE POR METAS '!G$6:G$344,B14) -> 5299357677 | O14: =+M14/L14 -> 1 | P14: =+SUMIFS('DETALLE POR METAS '!#REF!,'DETALLE POR METAS '!G$6:G$344,B14) -> #REF!
B15: Secretaría de Gobierno y Participación Ciudadana | C15: =+SUMIFS('DETALLE POR METAS '!I$6:I$344,'DETALLE POR METAS '!G$6:G$344,'DETALLE POR SECRETARIAS '!B15) -> 3977119489 | D15: =+SUMIFS('DETALLE POR METAS '!J$6:J$344,'DETALLE POR METAS '!G$6:G$344,B15) -> 3975779489 | E15: =+SUMIFS('DETALLE POR METAS '!K$6:K$344,'DETALLE POR METAS '!G$6:G$344,B15) -> 1.5543563e+09 | F15: =+E15/D15 -> 0.39095636 | G15: =+SUMIFS('DETALLE POR METAS '!M$6:M$344,'DETALLE POR METAS '!G$6:G$344,B15) -> 4819950410 | H15: =+SUMIFS('DETALLE POR METAS '!N$6:N$344,'DETALLE POR METAS '!G$6:G$344,B15) -> 6.7072993e+09 | I15: =+SUMIFS('DETALLE POR METAS '!O$6:O$344,'DETALLE POR METAS '!G$6:G$344,B15) -> 5.3185927e+09 | J15: =+I15/H15 -> 0.79295591 | K15: =+SUMIFS('DETALLE POR METAS '!Q$6:Q$344,'DETALLE POR METAS '!G$6:G$344,B15) -> 6697292400 | L15: =+SUMIFS('DETALLE POR METAS '!R$6:R$344,'DETALLE POR METAS '!G$6:G$344,B15) -> 2.6889897e+09 | M15: =+SUMIFS('DETALLE POR METAS '!S$6:S$344,'DETALLE POR METAS '!G$6:G$344,B15) -> 2.7606647e+09 | O15: =+M15/L15 -> 1.026655 | P15: =+SUMIFS('DETALLE POR METAS '!#REF!,'DETALLE POR METAS '!G$6:G$344,B15) -> #REF!
B16: Secretaría de Hacienda | C16: =+SUMIFS('DETALLE POR METAS '!I$6:I$344,'DETALLE POR METAS '!G$6:G$344,'DETALLE POR SECRETARIAS '!B16) -> 1.555446e+08 | D16: =+SUMIFS('DETALLE POR METAS '!J$6:J$344,'DETALLE POR METAS '!G$6:G$344,B16) -> 151227467 | E16: =+SUMIFS('DETALLE POR METAS '!K$6:K$344,'DETALLE POR METAS '!G$6:G$344,B16) -> 146200800 | F16: =+E16/D16 -> 0.96676089 | G16: =+SUMIFS('DETALLE POR METAS '!M$6:M$344,'DETALLE POR METAS '!G$6:G$344,B16) -> 999000000 | H16: =+SUMIFS('DETALLE POR METAS '!N$6:N$344,'DETALLE POR METAS '!G$6:G$344,B16) -> 1068909494 | I16: =+SUMIFS('DETALLE POR METAS '!O$6:O$344,'DETALLE POR METAS '!G$6:G$344,B16) -> 1.06372e+09 | J16: =+I16/H16 -> 0.99514503 | K16: =+SUMIFS('DETALLE POR METAS '!Q$6:Q$344,'DETALLE POR METAS '!G$6:G$344,B16) -> 1504634253 | L16: =+SUMIFS('DETALLE POR METAS '!R$6:R$344,'DETALLE POR METAS '!G$6:G$344,B16) -> 1.4807977e+09 | M16: =+SUMIFS('DETALLE POR METAS '!S$6:S$344,'DETALLE POR METAS '!G$6:G$344,B16) -> 1.4807977e+09 | O16: =+M16/L16 -> 1 | P16: =+SUMIFS('DETALLE POR METAS '!#REF!,'DETALLE POR METAS '!G$6:G$344,B16) -> #REF!
B17: Secretaría de infraestructura y obras públicas | C17: =+SUMIFS('DETALLE POR METAS '!I$6:I$344,'DETALLE POR METAS '!G$6:G$344,'DETALLE POR SECRETARIAS '!B17) -> 12914457836 | D17: =+SUMIFS('DETALLE POR METAS '!J$6:J$344,'DETALLE POR METAS '!G$6:G$344,B17) -> 1.519309e+10 | E17: =+SUMIFS('DETALLE POR METAS '!K$6:K$344,'DETALLE POR METAS '!G$6:G$344,B17) -> 1.1896864e+10 | F17: =+E17/D17 -> 0.7830444 | G17: =+SUMIFS('DETALLE POR METAS '!M$6:M$344,'DETALLE POR METAS '!G$6:G$344,B17) -> 13550173960 | H17: =+SUMIFS('DETALLE POR METAS '!N$6:N$344,'DETALLE POR METAS '!G$6:G$344,B17) -> 4.7054395e+10 | I17: =+SUMIFS('DETALLE POR METAS '!O$6:O$344,'DETALLE POR METAS '!G$6:G$344,B17) -> 3.9988614e+10 | J17: =+I17/H17 -> 0.84983801 | K17: =+SUMIFS('DETALLE POR METAS '!Q$6:Q$344,'DETALLE POR METAS '!G$6:G$344,B17) -> 2.3026976e+10 | L17: =+SUMIFS('DETALLE POR METAS '!R$6:R$344,'DETALLE POR METAS '!G$6:G$344,B17) -> 1.6978957e+10 | M17: =+SUMIFS('DETALLE POR METAS '!S$6:S$344,'DETALLE POR METAS '!G$6:G$344,B17) -> 1.6986131e+10 | O17: =+M17/L17 -> 1.0004226 | P17: =+SUMIFS('DETALLE POR METAS '!#REF!,'DETALLE POR METAS '!G$6:G$344,B17) -> #REF!
B18: Secretaría de Planeación | C18: =+SUMIFS('DETALLE POR METAS '!I$6:I$344,'DETALLE POR METAS '!G$6:G$344,'DETALLE POR SECRETARIAS '!B18) -> 16151866792 | D18: =+SUMIFS('DETALLE POR METAS '!J$6:J$344,'DETALLE POR METAS '!G$6:G$344,B18) -> 16223366792 | E18: =+SUMIFS('DETALLE POR METAS '!K$6:K$344,'DETALLE POR METAS '!G$6:G$344,B18) -> 1.6295757e+09 | F18: =+E18/D18 -> 0.10044621 | G18: =+SUMIFS('DETALLE POR METAS '!M$6:M$344,'DETALLE POR METAS '!G$6:G$344,B18) -> 6167387151 | H18: =+SUMIFS('DETALLE POR METAS '!N$6:N$344,'DETALLE POR METAS '!G$6:G$344,B18) -> 3.9521289e+10 | I18: =+SUMIFS('DETALLE POR METAS '!O$6:O$344,'DETALLE POR METAS '!G$6:G$344,B18) -> 3.4477904e+10 | J18: =+I18/H18 -> 0.87238814 | K18: =+SUMIFS('DETALLE POR METAS '!Q$6:Q$344,'DETALLE POR METAS '!G$6:G$344,B18) -> 1.2907243e+10 | L18: =+SUMIFS('DETALLE POR METAS '!R$6:R$344,'DETALLE POR METAS '!G$6:G$344,B18) -> 5.6577098e+09 | M18: =+SUMIFS('DETALLE POR METAS '!S$6:S$344,'DETALLE POR METAS '!G$6:G$344,B18) -> 5.6790859e+09 | O18: =+M18/L18 -> 1.0037782 | P18: =+SUMIFS('DETALLE POR METAS '!#REF!,'DETALLE POR METAS '!G$6:G$344,B18) -> #REF!
B19: Secretaría de Salud | C19: =+SUMIFS('DETALLE POR METAS '!I$6:I$344,'DETALLE POR METAS '!G$6:G$344,'DETALLE POR SECRETARIAS '!B19) -> 1.4902692e+10 | D19: =+SUMIFS('DETALLE POR METAS '!J$6:J$344,'DETALLE POR METAS '!G$6:G$344,B19) -> 1.5481114e+10 | E19: =+SUMIFS('DETALLE POR METAS '!K$6:K$344,'DETALLE POR METAS '!G$6:G$344,B19) -> 1.4525763e+10 | F19: =+E19/D19 -> 0.93828925 | G19: =+SUMIFS('DETALLE POR METAS '!M$6:M$344,'DETALLE POR METAS '!G$6:G$344,B19) -> 2.9980784e+10 | H19: =+SUMIFS('DETALLE POR METAS '!N$6:N$344,'DETALLE POR METAS '!G$6:G$344,B19) -> 2.9745743e+10 | I19: =+SUMIFS('DETALLE POR METAS '!O$6:O$344,'DETALLE POR METAS '!G$6:G$344,B19) -> 2.9266984e+10 | J19: =+I19/H19 -> 0.98390495 | K19: =+SUMIFS('DETALLE POR METAS '!Q$6:Q$344,'DETALLE POR METAS '!G$6:G$344,B19) -> 3.5041221e+10 | L19: =+SUMIFS('DETALLE POR METAS '!R$6:R$344,'DETALLE POR METAS '!G$6:G$344,B19) -> 2.416003e+10 | M19: =+SUMIFS('DETALLE POR METAS '!S$6:S$344,'DETALLE POR METAS '!G$6:G$344,B19) -> 2.6523374e+10 | O19: =+M19/L19 -> 1.0978204 | P19: =+SUMIFS('DETALLE POR METAS '!#REF!,'DETALLE POR METAS '!G$6:G$344,B19) -> #REF!
B20: Secretaría de Seguridad y Convivencia Ciudadana | C20: =+SUMIFS('DETALLE POR METAS '!I$6:I$344,'DETALLE POR METAS '!G$6:G$344,'DETALLE POR SECRETARIAS '!B20) -> 4.2502139e+09 | D20: =+SUMIFS('DETALLE POR METAS '!J$6:J$344,'DETALLE POR METAS '!G$6:G$344,B20) -> 4.3502139e+09 | E20: =+SUMIFS('DETALLE POR METAS '!K$6:K$344,'DETALLE POR METAS '!G$6:G$344,B20) -> 3.6327274e+09 | F20: =+E20/D20 -> 0.83506867 | G20: =+SUMIFS('DETALLE POR METAS '!M$6:M$344,'DETALLE POR METAS '!G$6:G$344,B20) -> 2965833153 | H20: =+SUMIFS('DETALLE POR METAS '!N$6:N$344,'DETALLE POR METAS '!G$6:G$344,B20) -> 7.0504862e+09 | I20: =+SUMIFS('DETALLE POR METAS '!O$6:O$344,'DETALLE POR METAS '!G$6:G$344,B20) -> 6.5346079e+09 | J20: =+I20/H20 -> 0.92683082 | K20: =+SUMIFS('DETALLE POR METAS '!Q$6:Q$344,'DETALLE POR METAS '!G$6:G$344,B20) -> 6.1230664e+09 | L20: =+SUMIFS('DETALLE POR METAS '!R$6:R$344,'DETALLE POR METAS '!G$6:G$344,B20) -> 5.2328601e+09 | M20: =+SUMIFS('DETALLE POR METAS '!S$6:S$344,'DETALLE POR METAS '!G$6:G$344,B20) -> 5.2234101e+09 | O20: =+M20/L20 -> 0.9981941 | P20: =+SUMIFS('DETALLE POR METAS '!#REF!,'DETALLE POR METAS '!G$6:G$344,B20) -> #REF!
B21: Secretaría de TIC y CTEI | C21: =+SUMIFS('DETALLE POR METAS '!I$6:I$344,'DETALLE POR METAS '!G$6:G$344,'DETALLE POR SECRETARIAS '!B21) -> 950869604 | D21: =+SUMIFS('DETALLE POR METAS '!J$6:J$344,'DETALLE POR METAS '!G$6:G$344,B21) -> 890187765 | E21: =+SUMIFS('DETALLE POR METAS '!K$6:K$344,'DETALLE POR METAS '!G$6:G$344,B21) -> 8.7655075e+08 | F21: =+E21/D21 -> 0.98468074 | G21: =+SUMIFS('DETALLE POR METAS '!M$6:M$344,'DETALLE POR METAS '!G$6:G$344,B21) -> 935911826 | H21: =+SUMIFS('DETALLE POR METAS '!N$6:N$344,'DETALLE POR METAS '!G$6:G$344,B21) -> 1.6410816e+09 | I21: =+SUMIFS('DETALLE POR METAS '!O$6:O$344,'DETALLE POR METAS '!G$6:G$344,B21) -> 1.5289571e+09 | J21: =+I21/H21 -> 0.93167646 | K21: =+SUMIFS('DETALLE POR METAS '!Q$6:Q$344,'DETALLE POR METAS '!G$6:G$344,B21) -> 1824789000 | L21: =+SUMIFS('DETALLE POR METAS '!R$6:R$344,'DETALLE POR METAS '!G$6:G$344,B21) -> 1.120675e+09 | M21: =+SUMIFS('DETALLE POR METAS '!S$6:S$344,'DETALLE POR METAS '!G$6:G$344,B21) -> 1.2853788e+09 | O21: =+M21/L21 -> 1.1469684 | P21: =+SUMIFS('DETALLE POR METAS '!#REF!,'DETALLE POR METAS '!G$6:G$344,B21) -> #REF!
B22: Secretaría de Tránsito, Transportes y movilidad | C22: =+SUMIFS('DETALLE POR METAS '!I$6:I$344,'DETALLE POR METAS '!G$6:G$344,'DETALLE POR SECRETARIAS '!B22) -> 1652800000 | D22: =+SUMIFS('DETALLE POR METAS '!J$6:J$344,'DETALLE POR METAS '!G$6:G$344,B22) -> 1652800000 | E22: =+SUMIFS('DETALLE POR METAS '!K$6:K$344,'DETALLE POR METAS '!G$6:G$344,B22) -> 9.6012883e+08 | F22: =+E22/D22 -> 0.58091047 | G22: =+SUMIFS('DETALLE POR METAS '!M$6:M$344,'DETALLE POR METAS '!G$6:G$344,B22) -> 1137500000 | H22: =+SUMIFS('DETALLE POR METAS '!N$6:N$344,'DETALLE POR METAS '!G$6:G$344,B22) -> 1.6226615e+09 | I22: =+SUMIFS('DETALLE POR METAS '!O$6:O$344,'DETALLE POR METAS '!G$6:G$344,B22) -> 1.5029836e+09 | J22: =+I22/H22 -> 0.92624591 | K22: =+SUMIFS('DETALLE POR METAS '!Q$6:Q$344,'DETALLE POR METAS '!G$6:G$344,B22) -> 1.7864001e+09 | L22: =+SUMIFS('DETALLE POR METAS '!R$6:R$344,'DETALLE POR METAS '!G$6:G$344,B22) -> 1246445885 | M22: =+SUMIFS('DETALLE POR METAS '!S$6:S$344,'DETALLE POR METAS '!G$6:G$344,B22) -> 1255195885 | O22: =+M22/L22 -> 1.00702 | P22: =+SUMIFS('DETALLE POR METAS '!#REF!,'DETALLE POR METAS '!G$6:G$344,B22) -> #REF!
... B25: Secretaría Jurídica | C25: =+SUMIFS('DETALLE POR METAS '!I$6:I$344,'DETALLE POR METAS '!G$6:G$344,'DETALLE POR SECRETARIAS '!B25) -> 68825861 | D25: =+SUMIFS('DETALLE POR METAS '!J$6:J$344,'DETALLE POR METAS '!G$6:G$344,B25) -> 68825861 | E25: =+SUMIFS('DETALLE POR METAS '!K$6:K$344,'DETALLE POR METAS '!G$6:G$344,B25) -> 68825861 | F25: =+E25/D25 -> 1 | G25: =+SUMIFS('DETALLE POR METAS '!M$6:M$344,'DETALLE POR METAS '!G$6:G$344,B25) -> 122400000 | H25: =+SUMIFS('DETALLE POR METAS '!N$6:N$344,'DETALLE POR METAS '!G$6:G$344,B25) -> 148585000 | I25: =+SUMIFS('DETALLE POR METAS '!O$6:O$344,'DETALLE POR METAS '!G$6:G$344,B25) -> 148584999 | J25: =+I25/H25 -> 0.99999999 | K25: =+SUMIFS('DETALLE POR METAS '!Q$6:Q$344,'DETALLE POR METAS '!G$6:G$344,B25) -> 192000000 | L25: =+SUMIFS('DETALLE POR METAS '!R$6:R$344,'DETALLE POR METAS '!G$6:G$344,B25) -> 181626666 | M25: =+SUMIFS('DETALLE POR METAS '!S$6:S$344,'DETALLE POR METAS '!G$6:G$344,B25) -> 181626666 | O25: =+M25/L25 -> 1 | P25: =+SUMIFS('DETALLE POR METAS '!#REF!,'DETALLE POR METAS '!G$6:G$344,B25) -> #REF!
C26: =+SUM(C5:C25) -> 9.9167556e+10 | D26: =+SUM(D5:D25) -> 1.0398342e+11 | E26: =+SUM(E5:E25) -> 6.816081e+10 | G26: =+SUM(G5:G25) -> 1.0321401e+11 | H26: =+SUM(H5:H25) -> 2.2926365e+11 | I26: =+SUM(I5:I25) -> 1.9728116e+11 | K26: =+SUM(K5:K25) -> 1.8647586e+11 | L26: =+SUM(L5:L25) -> 1.2594134e+11 | M26: =+SUM(M5:M25) -> 1.2863587e+11 | P26: =+SUM(P5:P25) -> #REF!
